BEGIN:VCALENDAR
PRODID:-//Solspace/Calendar 2.x//EN
VERSION:2.0
CALSCALE:GREGORIAN
BEGIN:VEVENT
UID:c2d380cf9fbbcf291d9948d49b151b58@solspace.com
DTSTAMP:20260425T141111
LOCATION:Oslo
DTSTART;VALUE=DATE:20260825
DTEND;VALUE=DATE:20260826
SUMMARY:Pareto Securities' Defence Seminar
END:VEVENT
END:VCALENDAR
