BEGIN:VCALENDAR
PRODID:-//Solspace/Calendar 2.x//EN
VERSION:2.0
CALSCALE:GREGORIAN
BEGIN:VEVENT
UID:00934250d1c9016690f1a12ae18c76d1@solspace.com
DTSTAMP:20260425T140617
LOCATION:Stockholm
DTSTART;VALUE=DATE:20260528
DTEND;VALUE=DATE:20260529
SUMMARY:Pareto Securities' Steel & Mining Equipment Seminar
END:VEVENT
END:VCALENDAR
